BEGIN:VCALENDAR
VERSION:2.0
PRODID:-//Sacramento Native American Health Center - ECPv6.15.20//NONSGML v1.0//EN
CALSCALE:GREGORIAN
METHOD:PUBLISH
X-WR-CALNAME:Sacramento Native American Health Center
X-ORIGINAL-URL:https://snahc.org
X-WR-CALDESC:Events for Sacramento Native American Health Center
REFRESH-INTERVAL;VALUE=DURATION:PT1H
X-Robots-Tag:noindex
X-PUBLISHED-TTL:PT1H
BEGIN:VTIMEZONE
TZID:America/Los_Angeles
BEGIN:DAYLIGHT
TZOFFSETFROM:-0800
TZOFFSETTO:-0700
TZNAME:PDT
DTSTART:20250309T100000
END:DAYLIGHT
BEGIN:STANDARD
TZOFFSETFROM:-0700
TZOFFSETTO:-0800
TZNAME:PST
DTSTART:20251102T090000
END:STANDARD
BEGIN:DAYLIGHT
TZOFFSETFROM:-0800
TZOFFSETTO:-0700
TZNAME:PDT
DTSTART:20260308T100000
END:DAYLIGHT
BEGIN:STANDARD
TZOFFSETFROM:-0700
TZOFFSETTO:-0800
TZNAME:PST
DTSTART:20261101T090000
END:STANDARD
BEGIN:DAYLIGHT
TZOFFSETFROM:-0800
TZOFFSETTO:-0700
TZNAME:PDT
DTSTART:20270314T100000
END:DAYLIGHT
BEGIN:STANDARD
TZOFFSETFROM:-0700
TZOFFSETTO:-0800
TZNAME:PST
DTSTART:20271107T090000
END:STANDARD
END:VTIMEZONE
BEGIN:VEVENT
DTSTART;TZID=America/Los_Angeles:20260505T130000
DTEND;TZID=America/Los_Angeles:20260505T143000
DTSTAMP:20260423T102638
CREATED:20260422T234155Z
LAST-MODIFIED:20260422T234155Z
UID:10016746-1777986000-1777991400@snahc.org
SUMMARY:Anger Management Group
DESCRIPTION:A 12-week class focused on managing anger in a healthy way and making relationships better. Only open to SNAHC patients. Located at Florin.
URL:https://snahc.org/snahc-event/anger-management-group-3/2026-05-05/
LOCATION:SNAHC Florin Road\, 3800 Florin Road\, Sacramento\, CA\, 95823\, United States
END:VEVENT
BEGIN:VEVENT
DTSTART;TZID=America/Los_Angeles:20260512T130000
DTEND;TZID=America/Los_Angeles:20260512T143000
DTSTAMP:20260423T102638
CREATED:20260422T234155Z
LAST-MODIFIED:20260422T234155Z
UID:10016747-1778590800-1778596200@snahc.org
SUMMARY:Anger Management Group
DESCRIPTION:A 12-week class focused on managing anger in a healthy way and making relationships better. Only open to SNAHC patients. Located at Florin.
URL:https://snahc.org/snahc-event/anger-management-group-3/2026-05-12/
LOCATION:SNAHC Florin Road\, 3800 Florin Road\, Sacramento\, CA\, 95823\, United States
END:VEVENT
BEGIN:VEVENT
DTSTART;TZID=America/Los_Angeles:20260519T130000
DTEND;TZID=America/Los_Angeles:20260519T143000
DTSTAMP:20260423T102638
CREATED:20260422T234155Z
LAST-MODIFIED:20260422T234155Z
UID:10016748-1779195600-1779201000@snahc.org
SUMMARY:Anger Management Group
DESCRIPTION:A 12-week class focused on managing anger in a healthy way and making relationships better. Only open to SNAHC patients. Located at Florin.
URL:https://snahc.org/snahc-event/anger-management-group-3/2026-05-19/
LOCATION:SNAHC Florin Road\, 3800 Florin Road\, Sacramento\, CA\, 95823\, United States
END:VEVENT
BEGIN:VEVENT
DTSTART;TZID=America/Los_Angeles:20260526T130000
DTEND;TZID=America/Los_Angeles:20260526T143000
DTSTAMP:20260423T102638
CREATED:20260422T234155Z
LAST-MODIFIED:20260422T234155Z
UID:10016749-1779800400-1779805800@snahc.org
SUMMARY:Anger Management Group
DESCRIPTION:A 12-week class focused on managing anger in a healthy way and making relationships better. Only open to SNAHC patients. Located at Florin.
URL:https://snahc.org/snahc-event/anger-management-group-3/2026-05-26/
LOCATION:SNAHC Florin Road\, 3800 Florin Road\, Sacramento\, CA\, 95823\, United States
END:VEVENT
BEGIN:VEVENT
DTSTART;TZID=America/Los_Angeles:20260602T130000
DTEND;TZID=America/Los_Angeles:20260602T143000
DTSTAMP:20260423T102638
CREATED:20260422T234155Z
LAST-MODIFIED:20260422T234155Z
UID:10016750-1780405200-1780410600@snahc.org
SUMMARY:Anger Management Group
DESCRIPTION:A 12-week class focused on managing anger in a healthy way and making relationships better. Only open to SNAHC patients. Located at Florin.
URL:https://snahc.org/snahc-event/anger-management-group-3/2026-06-02/
LOCATION:SNAHC Florin Road\, 3800 Florin Road\, Sacramento\, CA\, 95823\, United States
END:VEVENT
BEGIN:VEVENT
DTSTART;TZID=America/Los_Angeles:20260609T130000
DTEND;TZID=America/Los_Angeles:20260609T143000
DTSTAMP:20260423T102638
CREATED:20260422T234155Z
LAST-MODIFIED:20260422T234155Z
UID:10016751-1781010000-1781015400@snahc.org
SUMMARY:Anger Management Group
DESCRIPTION:A 12-week class focused on managing anger in a healthy way and making relationships better. Only open to SNAHC patients. Located at Florin.
URL:https://snahc.org/snahc-event/anger-management-group-3/2026-06-09/
LOCATION:SNAHC Florin Road\, 3800 Florin Road\, Sacramento\, CA\, 95823\, United States
END:VEVENT
BEGIN:VEVENT
DTSTART;TZID=America/Los_Angeles:20260616T130000
DTEND;TZID=America/Los_Angeles:20260616T143000
DTSTAMP:20260423T102638
CREATED:20260422T234155Z
LAST-MODIFIED:20260422T234155Z
UID:10016752-1781614800-1781620200@snahc.org
SUMMARY:Anger Management Group
DESCRIPTION:A 12-week class focused on managing anger in a healthy way and making relationships better. Only open to SNAHC patients. Located at Florin.
URL:https://snahc.org/snahc-event/anger-management-group-3/2026-06-16/
LOCATION:SNAHC Florin Road\, 3800 Florin Road\, Sacramento\, CA\, 95823\, United States
END:VEVENT
BEGIN:VEVENT
DTSTART;TZID=America/Los_Angeles:20260623T130000
DTEND;TZID=America/Los_Angeles:20260623T143000
DTSTAMP:20260423T102638
CREATED:20260422T234155Z
LAST-MODIFIED:20260422T234155Z
UID:10016753-1782219600-1782225000@snahc.org
SUMMARY:Anger Management Group
DESCRIPTION:A 12-week class focused on managing anger in a healthy way and making relationships better. Only open to SNAHC patients. Located at Florin.
URL:https://snahc.org/snahc-event/anger-management-group-3/2026-06-23/
LOCATION:SNAHC Florin Road\, 3800 Florin Road\, Sacramento\, CA\, 95823\, United States
END:VEVENT
BEGIN:VEVENT
DTSTART;TZID=America/Los_Angeles:20260630T130000
DTEND;TZID=America/Los_Angeles:20260630T143000
DTSTAMP:20260423T102638
CREATED:20260422T234155Z
LAST-MODIFIED:20260422T234155Z
UID:10016754-1782824400-1782829800@snahc.org
SUMMARY:Anger Management Group
DESCRIPTION:A 12-week class focused on managing anger in a healthy way and making relationships better. Only open to SNAHC patients. Located at Florin.
URL:https://snahc.org/snahc-event/anger-management-group-3/2026-06-30/
LOCATION:SNAHC Florin Road\, 3800 Florin Road\, Sacramento\, CA\, 95823\, United States
END:VEVENT
BEGIN:VEVENT
DTSTART;TZID=America/Los_Angeles:20260707T130000
DTEND;TZID=America/Los_Angeles:20260707T143000
DTSTAMP:20260423T102638
CREATED:20260422T234155Z
LAST-MODIFIED:20260422T234155Z
UID:10016755-1783429200-1783434600@snahc.org
SUMMARY:Anger Management Group
DESCRIPTION:A 12-week class focused on managing anger in a healthy way and making relationships better. Only open to SNAHC patients. Located at Florin.
URL:https://snahc.org/snahc-event/anger-management-group-3/2026-07-07/
LOCATION:SNAHC Florin Road\, 3800 Florin Road\, Sacramento\, CA\, 95823\, United States
END:VEVENT
BEGIN:VEVENT
DTSTART;TZID=America/Los_Angeles:20260714T130000
DTEND;TZID=America/Los_Angeles:20260714T143000
DTSTAMP:20260423T102638
CREATED:20260422T234155Z
LAST-MODIFIED:20260422T234155Z
UID:10016756-1784034000-1784039400@snahc.org
SUMMARY:Anger Management Group
DESCRIPTION:A 12-week class focused on managing anger in a healthy way and making relationships better. Only open to SNAHC patients. Located at Florin.
URL:https://snahc.org/snahc-event/anger-management-group-3/2026-07-14/
LOCATION:SNAHC Florin Road\, 3800 Florin Road\, Sacramento\, CA\, 95823\, United States
END:VEVENT
BEGIN:VEVENT
DTSTART;TZID=America/Los_Angeles:20260721T130000
DTEND;TZID=America/Los_Angeles:20260721T143000
DTSTAMP:20260423T102638
CREATED:20260422T234155Z
LAST-MODIFIED:20260422T234155Z
UID:10016757-1784638800-1784644200@snahc.org
SUMMARY:Anger Management Group
DESCRIPTION:A 12-week class focused on managing anger in a healthy way and making relationships better. Only open to SNAHC patients. Located at Florin.
URL:https://snahc.org/snahc-event/anger-management-group-3/2026-07-21/
LOCATION:SNAHC Florin Road\, 3800 Florin Road\, Sacramento\, CA\, 95823\, United States
END:VEVENT
BEGIN:VEVENT
DTSTART;TZID=America/Los_Angeles:20260728T130000
DTEND;TZID=America/Los_Angeles:20260728T143000
DTSTAMP:20260423T102638
CREATED:20260422T234155Z
LAST-MODIFIED:20260422T234155Z
UID:10016758-1785243600-1785249000@snahc.org
SUMMARY:Anger Management Group
DESCRIPTION:A 12-week class focused on managing anger in a healthy way and making relationships better. Only open to SNAHC patients. Located at Florin.
URL:https://snahc.org/snahc-event/anger-management-group-3/2026-07-28/
LOCATION:SNAHC Florin Road\, 3800 Florin Road\, Sacramento\, CA\, 95823\, United States
END:VEVENT
BEGIN:VEVENT
DTSTART;TZID=America/Los_Angeles:20260804T130000
DTEND;TZID=America/Los_Angeles:20260804T143000
DTSTAMP:20260423T102638
CREATED:20260422T234155Z
LAST-MODIFIED:20260422T234155Z
UID:10016759-1785848400-1785853800@snahc.org
SUMMARY:Anger Management Group
DESCRIPTION:A 12-week class focused on managing anger in a healthy way and making relationships better. Only open to SNAHC patients. Located at Florin.
URL:https://snahc.org/snahc-event/anger-management-group-3/2026-08-04/
LOCATION:SNAHC Florin Road\, 3800 Florin Road\, Sacramento\, CA\, 95823\, United States
END:VEVENT
BEGIN:VEVENT
DTSTART;TZID=America/Los_Angeles:20260811T130000
DTEND;TZID=America/Los_Angeles:20260811T143000
DTSTAMP:20260423T102638
CREATED:20260422T234155Z
LAST-MODIFIED:20260422T234155Z
UID:10016760-1786453200-1786458600@snahc.org
SUMMARY:Anger Management Group
DESCRIPTION:A 12-week class focused on managing anger in a healthy way and making relationships better. Only open to SNAHC patients. Located at Florin.
URL:https://snahc.org/snahc-event/anger-management-group-3/2026-08-11/
LOCATION:SNAHC Florin Road\, 3800 Florin Road\, Sacramento\, CA\, 95823\, United States
END:VEVENT
BEGIN:VEVENT
DTSTART;TZID=America/Los_Angeles:20260818T130000
DTEND;TZID=America/Los_Angeles:20260818T143000
DTSTAMP:20260423T102639
CREATED:20260422T234155Z
LAST-MODIFIED:20260422T234155Z
UID:10016761-1787058000-1787063400@snahc.org
SUMMARY:Anger Management Group
DESCRIPTION:A 12-week class focused on managing anger in a healthy way and making relationships better. Only open to SNAHC patients. Located at Florin.
URL:https://snahc.org/snahc-event/anger-management-group-3/2026-08-18/
LOCATION:SNAHC Florin Road\, 3800 Florin Road\, Sacramento\, CA\, 95823\, United States
END:VEVENT
BEGIN:VEVENT
DTSTART;TZID=America/Los_Angeles:20260825T130000
DTEND;TZID=America/Los_Angeles:20260825T143000
DTSTAMP:20260423T102639
CREATED:20260422T234155Z
LAST-MODIFIED:20260422T234155Z
UID:10016762-1787662800-1787668200@snahc.org
SUMMARY:Anger Management Group
DESCRIPTION:A 12-week class focused on managing anger in a healthy way and making relationships better. Only open to SNAHC patients. Located at Florin.
URL:https://snahc.org/snahc-event/anger-management-group-3/2026-08-25/
LOCATION:SNAHC Florin Road\, 3800 Florin Road\, Sacramento\, CA\, 95823\, United States
END:VEVENT
BEGIN:VEVENT
DTSTART;TZID=America/Los_Angeles:20260901T130000
DTEND;TZID=America/Los_Angeles:20260901T143000
DTSTAMP:20260423T102639
CREATED:20260422T234155Z
LAST-MODIFIED:20260422T234155Z
UID:10016763-1788267600-1788273000@snahc.org
SUMMARY:Anger Management Group
DESCRIPTION:A 12-week class focused on managing anger in a healthy way and making relationships better. Only open to SNAHC patients. Located at Florin.
URL:https://snahc.org/snahc-event/anger-management-group-3/2026-09-01/
LOCATION:SNAHC Florin Road\, 3800 Florin Road\, Sacramento\, CA\, 95823\, United States
END:VEVENT
BEGIN:VEVENT
DTSTART;TZID=America/Los_Angeles:20260908T130000
DTEND;TZID=America/Los_Angeles:20260908T143000
DTSTAMP:20260423T102639
CREATED:20260422T234155Z
LAST-MODIFIED:20260422T234155Z
UID:10016764-1788872400-1788877800@snahc.org
SUMMARY:Anger Management Group
DESCRIPTION:A 12-week class focused on managing anger in a healthy way and making relationships better. Only open to SNAHC patients. Located at Florin.
URL:https://snahc.org/snahc-event/anger-management-group-3/2026-09-08/
LOCATION:SNAHC Florin Road\, 3800 Florin Road\, Sacramento\, CA\, 95823\, United States
END:VEVENT
BEGIN:VEVENT
DTSTART;TZID=America/Los_Angeles:20260915T130000
DTEND;TZID=America/Los_Angeles:20260915T143000
DTSTAMP:20260423T102639
CREATED:20260422T234155Z
LAST-MODIFIED:20260422T234155Z
UID:10016765-1789477200-1789482600@snahc.org
SUMMARY:Anger Management Group
DESCRIPTION:A 12-week class focused on managing anger in a healthy way and making relationships better. Only open to SNAHC patients. Located at Florin.
URL:https://snahc.org/snahc-event/anger-management-group-3/2026-09-15/
LOCATION:SNAHC Florin Road\, 3800 Florin Road\, Sacramento\, CA\, 95823\, United States
END:VEVENT
BEGIN:VEVENT
DTSTART;TZID=America/Los_Angeles:20260922T130000
DTEND;TZID=America/Los_Angeles:20260922T143000
DTSTAMP:20260423T102639
CREATED:20260422T234155Z
LAST-MODIFIED:20260422T234155Z
UID:10016766-1790082000-1790087400@snahc.org
SUMMARY:Anger Management Group
DESCRIPTION:A 12-week class focused on managing anger in a healthy way and making relationships better. Only open to SNAHC patients. Located at Florin.
URL:https://snahc.org/snahc-event/anger-management-group-3/2026-09-22/
LOCATION:SNAHC Florin Road\, 3800 Florin Road\, Sacramento\, CA\, 95823\, United States
END:VEVENT
BEGIN:VEVENT
DTSTART;TZID=America/Los_Angeles:20260929T130000
DTEND;TZID=America/Los_Angeles:20260929T143000
DTSTAMP:20260423T102639
CREATED:20260422T234155Z
LAST-MODIFIED:20260422T234155Z
UID:10016767-1790686800-1790692200@snahc.org
SUMMARY:Anger Management Group
DESCRIPTION:A 12-week class focused on managing anger in a healthy way and making relationships better. Only open to SNAHC patients. Located at Florin.
URL:https://snahc.org/snahc-event/anger-management-group-3/2026-09-29/
LOCATION:SNAHC Florin Road\, 3800 Florin Road\, Sacramento\, CA\, 95823\, United States
END:VEVENT
BEGIN:VEVENT
DTSTART;TZID=America/Los_Angeles:20261006T130000
DTEND;TZID=America/Los_Angeles:20261006T143000
DTSTAMP:20260423T102639
CREATED:20260422T234155Z
LAST-MODIFIED:20260422T234155Z
UID:10016768-1791291600-1791297000@snahc.org
SUMMARY:Anger Management Group
DESCRIPTION:A 12-week class focused on managing anger in a healthy way and making relationships better. Only open to SNAHC patients. Located at Florin.
URL:https://snahc.org/snahc-event/anger-management-group-3/2026-10-06/
LOCATION:SNAHC Florin Road\, 3800 Florin Road\, Sacramento\, CA\, 95823\, United States
END:VEVENT
BEGIN:VEVENT
DTSTART;TZID=America/Los_Angeles:20261013T130000
DTEND;TZID=America/Los_Angeles:20261013T143000
DTSTAMP:20260423T102639
CREATED:20260422T234155Z
LAST-MODIFIED:20260422T234155Z
UID:10016769-1791896400-1791901800@snahc.org
SUMMARY:Anger Management Group
DESCRIPTION:A 12-week class focused on managing anger in a healthy way and making relationships better. Only open to SNAHC patients. Located at Florin.
URL:https://snahc.org/snahc-event/anger-management-group-3/2026-10-13/
LOCATION:SNAHC Florin Road\, 3800 Florin Road\, Sacramento\, CA\, 95823\, United States
END:VEVENT
BEGIN:VEVENT
DTSTART;TZID=America/Los_Angeles:20261020T130000
DTEND;TZID=America/Los_Angeles:20261020T143000
DTSTAMP:20260423T102639
CREATED:20260422T234155Z
LAST-MODIFIED:20260422T234155Z
UID:10016770-1792501200-1792506600@snahc.org
SUMMARY:Anger Management Group
DESCRIPTION:A 12-week class focused on managing anger in a healthy way and making relationships better. Only open to SNAHC patients. Located at Florin.
URL:https://snahc.org/snahc-event/anger-management-group-3/2026-10-20/
LOCATION:SNAHC Florin Road\, 3800 Florin Road\, Sacramento\, CA\, 95823\, United States
END:VEVENT
BEGIN:VEVENT
DTSTART;TZID=America/Los_Angeles:20261027T130000
DTEND;TZID=America/Los_Angeles:20261027T143000
DTSTAMP:20260423T102639
CREATED:20260422T234155Z
LAST-MODIFIED:20260422T234155Z
UID:10016771-1793106000-1793111400@snahc.org
SUMMARY:Anger Management Group
DESCRIPTION:A 12-week class focused on managing anger in a healthy way and making relationships better. Only open to SNAHC patients. Located at Florin.
URL:https://snahc.org/snahc-event/anger-management-group-3/2026-10-27/
LOCATION:SNAHC Florin Road\, 3800 Florin Road\, Sacramento\, CA\, 95823\, United States
END:VEVENT
BEGIN:VEVENT
DTSTART;TZID=America/Los_Angeles:20261103T130000
DTEND;TZID=America/Los_Angeles:20261103T143000
DTSTAMP:20260423T102639
CREATED:20260422T234155Z
LAST-MODIFIED:20260422T234155Z
UID:10016772-1793710800-1793716200@snahc.org
SUMMARY:Anger Management Group
DESCRIPTION:A 12-week class focused on managing anger in a healthy way and making relationships better. Only open to SNAHC patients. Located at Florin.
URL:https://snahc.org/snahc-event/anger-management-group-3/2026-11-03/
LOCATION:SNAHC Florin Road\, 3800 Florin Road\, Sacramento\, CA\, 95823\, United States
END:VEVENT
BEGIN:VEVENT
DTSTART;TZID=America/Los_Angeles:20261110T130000
DTEND;TZID=America/Los_Angeles:20261110T143000
DTSTAMP:20260423T102639
CREATED:20260422T234155Z
LAST-MODIFIED:20260422T234155Z
UID:10016773-1794315600-1794321000@snahc.org
SUMMARY:Anger Management Group
DESCRIPTION:A 12-week class focused on managing anger in a healthy way and making relationships better. Only open to SNAHC patients. Located at Florin.
URL:https://snahc.org/snahc-event/anger-management-group-3/2026-11-10/
LOCATION:SNAHC Florin Road\, 3800 Florin Road\, Sacramento\, CA\, 95823\, United States
END:VEVENT
BEGIN:VEVENT
DTSTART;TZID=America/Los_Angeles:20261117T130000
DTEND;TZID=America/Los_Angeles:20261117T143000
DTSTAMP:20260423T102639
CREATED:20260422T234155Z
LAST-MODIFIED:20260422T234155Z
UID:10016774-1794920400-1794925800@snahc.org
SUMMARY:Anger Management Group
DESCRIPTION:A 12-week class focused on managing anger in a healthy way and making relationships better. Only open to SNAHC patients. Located at Florin.
URL:https://snahc.org/snahc-event/anger-management-group-3/2026-11-17/
LOCATION:SNAHC Florin Road\, 3800 Florin Road\, Sacramento\, CA\, 95823\, United States
END:VEVENT
BEGIN:VEVENT
DTSTART;TZID=America/Los_Angeles:20261124T130000
DTEND;TZID=America/Los_Angeles:20261124T143000
DTSTAMP:20260423T102639
CREATED:20260422T234155Z
LAST-MODIFIED:20260422T234155Z
UID:10016775-1795525200-1795530600@snahc.org
SUMMARY:Anger Management Group
DESCRIPTION:A 12-week class focused on managing anger in a healthy way and making relationships better. Only open to SNAHC patients. Located at Florin.
URL:https://snahc.org/snahc-event/anger-management-group-3/2026-11-24/
LOCATION:SNAHC Florin Road\, 3800 Florin Road\, Sacramento\, CA\, 95823\, United States
END:VEVENT
END:VCALENDAR